BEGIN:VCALENDAR
VERSION:2.0
PRODID:-//wp-events-plugin.com//7.2.3.1//EN
TZID:Europe/Rome
X-WR-TIMEZONE:Europe/Rome
BEGIN:VEVENT
UID:0-15@isra-rescue.org
DTSTART;TZID=Europe/Rome:20260420T080000
DTEND;TZID=Europe/Rome:20260421T183000
DTSTAMP:20260312T175914Z
URL:https://www.isra-rescue.org/events/wilderness-first-aid-20-04-2026
SUMMARY:Wilderness First Aid 20/04/2026
DESCRIPTION:\nPRIMO SOCCORO IN AREE REMOTE\nWILDERNESS FIRS AID\nPER LA PRE
 NOTAZIONE NON E' NECESSARIO ESSERE UN UTENTE REGISTRATO\n\n\n\nDURATA: 16 
 ORE\nATTESTATO DI PARTECIPAZIONE: Si\, rilasciato da I.S.R.A.\nPARTECIPAZI
 ONE GRATUITA\nVITTO E ALLOGGIO A PAGAMENTO\, prenotando su www.saint-huber
 t.it\nAzienda Agricola Saint-Hubert\nIndirizzo: Località Prato 64\, 15060
  Cantalupo Ligure (AL)\nOrario: Solo su appuntamento. Check in entro le 19
 .00.\nTelefono: +39 351 657 27 30\nEmail: info@saint-hubert.it\nHome page:
  https://www.saint-hubert.it/\n\n\n\nMATERIE E ARGOMENTI TRATTATI\n- Gesti
 one infortunato con protocollo SOAP\n- Sistemi di immobilizzazioni\n- Tras
 porto di fortuna\n- Ipotermia\, ipertermia\n- Gestione emorragie massive: 
 uso del CAT tourniquet\, bendaggio compressivo\; zaffaggio\n- Problemi med
 ici e traumi\n- Ambiente: acqua\, fuoco\, riparo\n\n\n\nABBIGLIAMENTO E MA
 TERIALE OBBLIGATORIO\nAbbigliamento: Dato che si effettueranno delle prove
  pratiche e simulazioni l'abbigliamento deve essere consono alle attività
 .\nConsiderate abbigliamento di ricambio usa e getta.\nMateriale obbligato
 rio: abbigliamento a perdere.\n\n\n\n
ATTACH;FMTTYPE=image/jpeg:https://www.isra-rescue.org/wp-content/uploads/2
 026/03/ASHI-Wilderness-First-Aid.jpg
CATEGORIES:Wilderness First Aid
LOCATION:Azienda Agricola Saint-Hubert\, Località Prato 64\, Cantalupo Lig
 ure\, AL\, 15060\, Italia
X-APPLE-STRUCTURED-LOCATION;VALUE=URI;X-ADDRESS=Località Prato 64\, Cantal
 upo Ligure\, AL\, 15060\, Italia;X-APPLE-RADIUS=100;X-TITLE=Azienda Agrico
 la Saint-Hubert:geo:0,0
END:VEVENT
BEGIN:VTIMEZONE
TZID:Europe/Rome
X-LIC-LOCATION:Europe/Rome
BEGIN:DAYLIGHT
DTSTART:20260329T030000
TZOFFSETFROM:+0100
TZOFFSETTO:+0200
TZNAME:CEST
END:DAYLIGHT
END:VTIMEZONE
END:VCALENDAR